BEGIN:VCALENDAR
VERSION:2.0
PRODID:-//AudioTheme 3.0.0
BEGIN:VEVENT
UID:http://giannalunardi.ch/?post_type=audiotheme_gig&#038;p=843
URL:https://giannalunardi.ch/shows/weihnachtsgottesdienst/
DTSTART;TZID=GMT:20201225T000000
SUMMARY:Weihnachtsgottesdienst
DESCRIPTION:Arien und Lieder zu Weihnachten mit dem Organisten Martin Rabensteiner zur Umrahmung des Weihnachtsgottesdienstes
LOCATION:Adliswil\, ref.Kirche
END:VEVENT
END:VCALENDAR
