BEGIN:VCALENDAR
VERSION:2.0
PRODID:-//AudioTheme 3.0.0
BEGIN:VEVENT
UID:http://giannalunardi.ch/?post_type=audiotheme_gig&#038;p=641
URL:https://giannalunardi.ch/shows/robert-schumann-faust-szenen-derniere/
DTSTART;TZID=GMT:20180517T000000
SUMMARY:Robert Schumann: Faust-Szenen. Dernière
DESCRIPTION:Ein installatives Oratorium.
LOCATION:Theater Luzern
END:VEVENT
END:VCALENDAR
