BEGIN:VCALENDAR
VERSION:2.0
PRODID:-//AudioTheme 3.0.0
BEGIN:VEVENT
UID:http://giannalunardi.ch/?post_type=audiotheme_gig&#038;p=642
URL:https://giannalunardi.ch/shows/orgelspaziergang-in-zuerich-vokalensemble-zuerich/
DTSTART;VALUE=DATE:20180526
SUMMARY:Orgelspaziergang in Zürich - Vokalensemble Zürich
LOCATION:Zürich
END:VEVENT
END:VCALENDAR
