BEGIN:VCALENDAR
VERSION:2.0
PRODID:-//AudioTheme 3.0.0
BEGIN:VEVENT
UID:http://giannalunardi.ch/?post_type=audiotheme_gig&#038;p=643
URL:https://giannalunardi.ch/shows/opernszenen/
DTSTART;TZID=GMT:20180618T000000
SUMMARY:Opernszenen
LOCATION:Luzern\, Theaterpavillon
END:VEVENT
END:VCALENDAR
