BEGIN:VCALENDAR
VERSION:2.0
PRODID:-//AudioTheme 3.0.0
BEGIN:VEVENT
UID:http://giannalunardi.ch/?post_type=audiotheme_gig&#038;p=1138
URL:https://giannalunardi.ch/shows/fureur-et-mystere-vokalensemble-zuerich-3/
DTSTART;TZID=GMT:20231121T000000
SUMMARY:Fureur et Mystère - Vokalensemble Zürich
DESCRIPTION:Vokalensemble Zürich\, Lt.Peter Siegwart  Ensemble Arabesque
LOCATION:Zürich\, St.Peter
END:VEVENT
END:VCALENDAR
