BEGIN:VCALENDAR
VERSION:2.0
PRODID:-//AudioTheme 3.0.0
BEGIN:VEVENT
UID:http://giannalunardi.ch/?post_type=audiotheme_gig&#038;p=652
URL:https://giannalunardi.ch/shows/die-zaubergeige-operetta-gion-plazzetta/
DTSTART;TZID=GMT:20180803T000000
SUMMARY:Die Zaubergeige - Operetta gio'n Plazzetta
LOCATION:Ardez\, Dorfplatz
END:VEVENT
END:VCALENDAR
