BEGIN:VCALENDAR
VERSION:2.0
PRODID:-//AudioTheme 3.0.0
BEGIN:VEVENT
UID:http://giannalunardi.ch/?post_type=audiotheme_gig&#038;p=1103
URL:https://giannalunardi.ch/shows/appollinaire-festival-brunegg/
DTSTART;TZID=GMT:20230527T000000
SUMMARY:Soirée Appollinaire - Festival Brunegg
DESCRIPTION:Mit dem Vokalensemble Zürich zu Gast beim Festival Brunegg
LOCATION:Schloss Brunegg
END:VEVENT
END:VCALENDAR
