BEGIN:VCALENDAR
VERSION:2.0
PRODID:-//AudioTheme 3.0.0
BEGIN:VEVENT
UID:http://giannalunardi.ch/?post_type=audiotheme_gig&#038;p=841
URL:https://giannalunardi.ch/shows/2020-12-24/
DTSTART;TZID=GMT:20201224T000000
SUMMARY:Heilig Abend - Mitternachtsmesse
DESCRIPTION:Gesangsquartett und Streichquartett umrahmen die Mitternachtsmesse
LOCATION:Winterthur\, St.Urban
END:VEVENT
END:VCALENDAR
